BEGIN:VCALENDAR
VERSION:2.0
PRODID:-//Terrain Magazine - ECPv6.15.20//NONSGML v1.0//EN
CALSCALE:GREGORIAN
METHOD:PUBLISH
X-ORIGINAL-URL:https://terrain-mag.com
X-WR-CALDESC:Events for Terrain Magazine
REFRESH-INTERVAL;VALUE=DURATION:PT1H
X-Robots-Tag:noindex
X-PUBLISHED-TTL:PT1H
BEGIN:VTIMEZONE
TZID:America/Chicago
BEGIN:DAYLIGHT
TZOFFSETFROM:-0600
TZOFFSETTO:-0500
TZNAME:CDT
DTSTART:20230312T080000
END:DAYLIGHT
BEGIN:STANDARD
TZOFFSETFROM:-0500
TZOFFSETTO:-0600
TZNAME:CST
DTSTART:20231105T070000
END:STANDARD
BEGIN:DAYLIGHT
TZOFFSETFROM:-0600
TZOFFSETTO:-0500
TZNAME:CDT
DTSTART:20240310T080000
END:DAYLIGHT
BEGIN:STANDARD
TZOFFSETFROM:-0500
TZOFFSETTO:-0600
TZNAME:CST
DTSTART:20241103T070000
END:STANDARD
BEGIN:DAYLIGHT
TZOFFSETFROM:-0600
TZOFFSETTO:-0500
TZNAME:CDT
DTSTART:20250309T080000
END:DAYLIGHT
BEGIN:STANDARD
TZOFFSETFROM:-0500
TZOFFSETTO:-0600
TZNAME:CST
DTSTART:20251102T070000
END:STANDARD
END:VTIMEZONE
BEGIN:VEVENT
DTSTART;TZID=America/Chicago:20240316T090000
DTEND;TZID=America/Chicago:20240316T130000
DTSTAMP:20260422T103851
CREATED:20240211T221313Z
LAST-MODIFIED:20240211T221313Z
UID:62220-1710579600-1710594000@terrain-mag.com
SUMMARY:St. Patrick’s Day Parade Run
DESCRIPTION:The 46th Annual Michelob ULTRA St. Patrick’s Day Parade Run is “returning to the streets” on Saturday\, March 16\, 2024. \nOne of the largest events of its kind in the St. Louis area\, with more than 5\,000 participants\, the 5-mile Run and the 3K Shuffle travel the streets of downtown and midtown St. Louis before the St. Patrick’s Day Parade\, regularly noted as one of the top in the country. \nThe St. Louis Metropolitan St. Patrick’s Day Parade and Run Committee is a 501[c]3\, all-volunteer charitable organization which – thanks to the support of our sponsors and thousands of runners like you – has raised tens of thousands for St. Louis area charities over the past 45 Runs. \nWe appreciate your continued support.
URL:https://terrain-mag.com/event/st-patricks-day-parade-run-10/
LOCATION:St. Louis\, MO
END:VEVENT
BEGIN:VEVENT
DTSTART;TZID=America/Chicago:20240317T080000
DTEND;TZID=America/Chicago:20240317T130000
DTSTAMP:20260422T103851
CREATED:20240211T221449Z
LAST-MODIFIED:20240211T221449Z
UID:62222-1710662400-1710680400@terrain-mag.com
SUMMARY:Time to Paddy 5K/10K & Lucky 13.1
DESCRIPTION:*Register by Sunday at midnight the weekend BEFORE the race to be guaranteed a shirt!\nJoin us for the annual Time to Paddy 5k/10k and Lucky 13.1 Half Marathon! A St. Patrick-themed run that is perfect for the whole family.\nThe fun includes great swag (designer shirt\, custom medal)\, chip-timing\, live results and awards\, free photos\, a “biggest team” contest\, a kids’ dash\, great post-race food\, and plenty of fun! Grab your friends and family\, you are not going to want to miss this one!\nCan’t make the race? No problem! We offer a virtual race option where you can run anywhere\, at any time\, and still earn the fun swag!
URL:https://terrain-mag.com/event/time-to-paddy-5k-10k-lucky-13-1-3/
LOCATION:St. Joseph\, Mo.
END:VEVENT
BEGIN:VEVENT
DTSTART;TZID=America/Chicago:20240317T090000
DTEND;TZID=America/Chicago:20240317T170000
DTSTAMP:20260422T103851
CREATED:20240211T214015Z
LAST-MODIFIED:20240211T214015Z
UID:62202-1710666000-1710694800@terrain-mag.com
SUMMARY:Death By Gravel
DESCRIPTION:The only mission is to survive. Your day of reckoning is March 17 2024. Same route as 2022 except hopefully less flooded this year.
URL:https://terrain-mag.com/event/death-by-gravel/
LOCATION:Steelville\, Mo.
END:VEVENT
BEGIN:VEVENT
DTSTART;TZID=America/Chicago:20240317T110000
DTEND;TZID=America/Chicago:20240317T180000
DTSTAMP:20260422T103851
CREATED:20240213T010150Z
LAST-MODIFIED:20240213T010150Z
UID:62261-1710673200-1710698400@terrain-mag.com
SUMMARY:Boogerboo Volunteer Day
DESCRIPTION:Come hangout and climb some great sandstone boulders. No pets allowed. The owner has two large dogs that may greet you.
URL:https://terrain-mag.com/event/boogerboo-volunteer-day/
LOCATION:Farmington\, MO
END:VEVENT
BEGIN:VEVENT
DTSTART;TZID=America/Chicago:20240322T080000
DTEND;TZID=America/Chicago:20240324T170000
DTSTAMP:20260422T103851
CREATED:20240213T010712Z
LAST-MODIFIED:20240213T010712Z
UID:62265-1711094400-1711299600@terrain-mag.com
SUMMARY:Women in Military Resilience Retreat
DESCRIPTION:Join Sally for an incredible weekend of connection\, discovery\, fun\, and relaxation for women in military! What a fabulous way to celebrate Women’s History Month. We welcome active duty\, guard\, reserve\, and veterans.
URL:https://terrain-mag.com/event/women-in-military-resilience-retreat/
LOCATION:Benton\, IL
END:VEVENT
BEGIN:VEVENT
DTSTART;TZID=America/Chicago:20240323T073000
DTEND;TZID=America/Chicago:20240323T120000
DTSTAMP:20260422T103851
CREATED:20231215T221200Z
LAST-MODIFIED:20231215T221200Z
UID:61410-1711179000-1711195200@terrain-mag.com
SUMMARY:Bridge & Dam Races
DESCRIPTION:
URL:https://terrain-mag.com/event/bridge-dam-races/
LOCATION:Lake Ozark\, MO
END:VEVENT
BEGIN:VEVENT
DTSTART;TZID=America/Chicago:20240323T080000
DTEND;TZID=America/Chicago:20240323T120000
DTSTAMP:20260422T103851
CREATED:20231215T221910Z
LAST-MODIFIED:20231215T221910Z
UID:61415-1711180800-1711195200@terrain-mag.com
SUMMARY:Liberty Half Marathon/Jewell 5K
DESCRIPTION:Come run or walk in the 7th annual Liberty Half Marathon/Jewell 5K Presented by Hy-Vee! All Half Marathon and 5K participants will enjoy a scenic race course starting and ending at William Jewell College and going through downtown Liberty. Plus\, load up with the following swag: stunning larger-than-life finisher medals\, personalized bibs\, free race photos\, very soft uni-sex long-sleeve shirt for half marathoners and very soft uni-sex short-sleeve shirt for 5K\, 3Halves Craft beer\, chip timing and discounts/giveaways from our sponsors!
URL:https://terrain-mag.com/event/liberty-half-marathon-jewell-5k/
LOCATION:Liberty\, MO
END:VEVENT
BEGIN:VEVENT
DTSTART;TZID=America/Chicago:20240323T080000
DTEND;TZID=America/Chicago:20240323T170000
DTSTAMP:20260422T103851
CREATED:20231215T221605Z
LAST-MODIFIED:20231215T221605Z
UID:61413-1711180800-1711213200@terrain-mag.com
SUMMARY:Fight for Air Climb
DESCRIPTION:Our Fight For Air Climb is designed for every type of climber\, from beginners to competitive climbers. \nHow you climb is up to you: race to the top or take it at your own speed. \nAssemble your crew: for the best Climb experience\, form a team of friends and family\, coworkers or neighbors.
URL:https://terrain-mag.com/event/fight-for-air-climb-3/
LOCATION:Metropolitan Square
END:VEVENT
BEGIN:VEVENT
DTSTART;TZID=America/Chicago:20240323T080000
DTEND;TZID=America/Chicago:20240323T170000
DTSTAMP:20260422T103851
CREATED:20231215T222159Z
LAST-MODIFIED:20240214T153754Z
UID:61417-1711180800-1711213200@terrain-mag.com
SUMMARY:Weldon Spring Marathon & Half
DESCRIPTION:
URL:https://terrain-mag.com/event/weldon-spring-marathon-half/
LOCATION:Weldon Spring Site\, 7295 MO-94\, St Charles\, MO 63304
END:VEVENT
BEGIN:VEVENT
DTSTART;TZID=America/Chicago:20240323T080000
DTEND;TZID=America/Chicago:20240323T170000
DTSTAMP:20260422T103851
CREATED:20240212T004412Z
LAST-MODIFIED:20240212T004412Z
UID:62228-1711180800-1711213200@terrain-mag.com
SUMMARY:Weldon Spring Marathon & Half
DESCRIPTION:
URL:https://terrain-mag.com/event/weldon-spring-marathon-half-2/
LOCATION:Weldon Springs\, MO
END:VEVENT
BEGIN:VEVENT
DTSTART;TZID=America/Chicago:20240323T080000
DTEND;TZID=America/Chicago:20240324T170000
DTSTAMP:20260422T103851
CREATED:20231215T215805Z
LAST-MODIFIED:20231215T215805Z
UID:61402-1711180800-1711299600@terrain-mag.com
SUMMARY:Tour of St. Louis Bike Races
DESCRIPTION:
URL:https://terrain-mag.com/event/tour-of-st-louis-bike-races/
LOCATION:St. Louis\, MO
END:VEVENT
BEGIN:VEVENT
DTSTART;TZID=America/Chicago:20240323T083000
DTEND;TZID=America/Chicago:20240323T130000
DTSTAMP:20260422T103851
CREATED:20240211T221755Z
LAST-MODIFIED:20240211T221755Z
UID:62223-1711182600-1711198800@terrain-mag.com
SUMMARY:Fox Trot 5K and Kit Crawl 10K
DESCRIPTION:Enjoy a 5K or 10K run through Missouri’s first – and the world’s 44th – Level III Arboretum during the emergence of Spring. The rolling hills of Bellefontaine’s 314 acres will allow a greater appreciation of the 87\,000 lives commemorated on the grounds of the oldest Garden Cemetery west of the Mississippi. Participate in person or virtually.
URL:https://terrain-mag.com/event/fox-trot-5k-and-kit-crawl-10k/
LOCATION:Bellefontaine Cemetery and Arboretum
END:VEVENT
BEGIN:VEVENT
DTSTART;TZID=America/Chicago:20240323T090000
DTEND;TZID=America/Chicago:20240323T120000
DTSTAMP:20260422T103851
CREATED:20240229T162828Z
LAST-MODIFIED:20240229T162828Z
UID:62722-1711184400-1711195200@terrain-mag.com
SUMMARY:Spring into Nature 5K Trail Run/Walk
DESCRIPTION:Shaw Nature Reserve welcomes experienced trail runners and casual walkers alike to experience the beauty of native Missouri in early spring at its new 5K event. \nThe Spring into Nature 5K Trail Run/Walk will take participants through the woodlands and prairies of the Nature Reserve\, highlighting the awakening springtime plants and wildlife. Participants will receive a custom Spring into Nature fanny pack with their registration\, as well as a native Missouri plant to take home to their own garden. \nProceeds for this event support the Nature Reserve’s mission to protect and preserve these natural spaces for public enjoyment and to inspire responsible stewardship of our environment through education\, restoration\, and protection of natural habitats. \nRegistration closes March 18 at 9 a.m. or when the event reaches capacity.
URL:https://terrain-mag.com/event/spring-into-nature-5k-trail-run-walk/
LOCATION:Shaw Nature Reserve – Grey Summit\, Mo\, 1701 SW Crow Rd\, Cameron\, MO\, United States
CATEGORIES:Trail Running
END:VEVENT
BEGIN:VEVENT
DTSTART;TZID=America/Chicago:20240323T090000
DTEND;TZID=America/Chicago:20240323T130000
DTSTAMP:20260422T103851
CREATED:20240213T011012Z
LAST-MODIFIED:20240213T011012Z
UID:62267-1711184400-1711198800@terrain-mag.com
SUMMARY:River’s Edge Park Trail Build
DESCRIPTION:Building a brand new singletrack trail approximately 2.5 miles in length.
URL:https://terrain-mag.com/event/rivers-edge-park-trail-build/
LOCATION:River’s Edge Park
END:VEVENT
BEGIN:VEVENT
DTSTART;TZID=America/Chicago:20240323T180000
DTEND;TZID=America/Chicago:20240323T210000
DTSTAMP:20260422T103851
CREATED:20240213T010410Z
LAST-MODIFIED:20240213T010410Z
UID:62263-1711216800-1711227600@terrain-mag.com
SUMMARY:Beans\, Bikes & Brews
DESCRIPTION:We’ll be bringing back crowd favorites – delicious chili\, a 50/50 raffle\, and the release of the rides calendar. You can be among the first to register for all of Trailnet’s 2023 Classics! \nPlus\, you’ll have the opportunity to purchase a season pass at an unprecedented discount. \nThis year\, we will also feature new opportunities for you to engage with our mission. Experience a pop-up traffic calming demonstration. Ask questions about the 2022 Crash Report. Take action with our Advocacy team. Practice fixing a flat with our bike educator.
URL:https://terrain-mag.com/event/beans-bikes-brews/
LOCATION:The Heights Community Center\, 8001 Dale Avenue\, Richmond Heights\, MO\, 63117\, United States
END:VEVENT
BEGIN:VEVENT
DTSTART;TZID=America/Chicago:20240324T080000
DTEND;TZID=America/Chicago:20240324T150000
DTSTAMP:20260422T103851
CREATED:20231215T220044Z
LAST-MODIFIED:20231215T220044Z
UID:61403-1711267200-1711292400@terrain-mag.com
SUMMARY:The Chubb Enduro
DESCRIPTION:Chubb Mountain Bike trails are some of St Louis’s most rugged and exciting trails to ride.  Expect roots\, chunky rocks\, tight turns\, and steep sections that will get your arms pumping and adrenaline rushing. The event will cater to all levels of riders from people looking to do their first enduro to the local pros looking to fully send it down the trails. There’s no right line at Chubb\, only fast and fastest.
URL:https://terrain-mag.com/event/the-chubb-enduro-2/
LOCATION:The Chubb Trails\, Eureka Missouri
END:VEVENT
BEGIN:VEVENT
DTSTART;TZID=America/Chicago:20240324T090000
DTEND;TZID=America/Chicago:20240324T100000
DTSTAMP:20260422T103851
CREATED:20240212T005315Z
LAST-MODIFIED:20240212T005315Z
UID:62230-1711270800-1711274400@terrain-mag.com
SUMMARY:Chain of Rocks 6K
DESCRIPTION:The Chain of Rocks Bridge is an iconic bridge on the famous Route 66\, also known as the Mother Road. This 6K race starts and finishes at the foot of the Chain of Rocks Bridge on the Illinois side. This unique event allows runners to participate with their local running clubs or as an individuals. Proceeds from the event benefit the St. Louis City League which you can learn more about in the text below.
URL:https://terrain-mag.com/event/chain-of-rocks-6k-2/
LOCATION:Granite City\, Illinois
END:VEVENT
BEGIN:VEVENT
DTSTART;TZID=America/Chicago:20240324T120000
DTEND;TZID=America/Chicago:20240324T170000
DTSTAMP:20260422T103851
CREATED:20240213T004150Z
LAST-MODIFIED:20240213T004150Z
UID:62256-1711281600-1711299600@terrain-mag.com
SUMMARY:Rec-Plex Indoor Triathlon
DESCRIPTION:Is it difficult for you to stay motivated during your off season when it’s cold wet and rainy outside? Do you have all the equipment you need to support your off season training? How often are you able to practice your swim\, bike and run together? Our Indoor Triathlon Series is geared towards keeping you motivated through the winter season and accomplishing your fitness goals. Whether you are trying to stay in shape\, improve on your race times\, or simply giving it the “tri” a try for the first time\, the Indoor Triathlon Series is for you! \nThe swim will be in a 25-yard lap lane in our Natatorium. Once you have completed the swim you will transition to our spin room where the bike portion will take place. After the bike is completed you will make your way to the cardio room to run on a treadmill. Rec-Plex staff will keep track of your timing. We have 2 lengths to choose from\, short course and long course.
URL:https://terrain-mag.com/event/rec-plex-indoor-triathlon-24/
LOCATION:St. Peters RecPlex\, 5200 Mexico Rd\, St Peters\, Missouri\, 63376
END:VEVENT
BEGIN:VEVENT
DTSTART;TZID=America/Chicago:20240330T080000
DTEND;TZID=America/Chicago:20240330T120000
DTSTAMP:20260422T103851
CREATED:20240212T010324Z
LAST-MODIFIED:20240212T010324Z
UID:62233-1711785600-1711800000@terrain-mag.com
SUMMARY:Chesterfield Regional Chamber Blossom Bolt Run/Walk
DESCRIPTION:Join us for the 7th Annual Chesterfield Regional Chamber Blossom Bolt Run/Walk. The family-friendly event will begin at 8 am on Saturday\, March 30. The 5K (3.1 mile) and 10K (6.2 mile) courses are out-and-back flat trails. The Chamber also hosts a half-mile Sprout Sprint (aka Children’s Fun Run) for ages 10 and under. This event is sponsored by Bayer CropScience\, Orangetheory Fitness – Chesterfield\, First Community Credit Union\, Ambassador Floor\, and Ryan Lawn & Tree. A portion of the proceeds to benefit Wings of Hope.
URL:https://terrain-mag.com/event/chesterfield-regional-chamber-blossom-bolt-run-walk/
LOCATION:Chesterfield\, MO
ORGANIZER;CN="Chesterfield Chamber of Commerce":MAILTO:info@chesterfieldmochamber.com
END:VEVENT
BEGIN:VEVENT
DTSTART;TZID=America/Chicago:20240330T080000
DTEND;TZID=America/Chicago:20240330T170000
DTSTAMP:20260422T103851
CREATED:20240211T214348Z
LAST-MODIFIED:20240211T214348Z
UID:62204-1711785600-1711818000@terrain-mag.com
SUMMARY:Fools Ride 6 Hour
DESCRIPTION:
URL:https://terrain-mag.com/event/fools-ride-6-hour/
LOCATION:Warsaw\, Missouri United States 28565 Benton House Ave Warsaw MO 65355
END:VEVENT
BEGIN:VEVENT
DTSTART;TZID=America/Chicago:20240330T090000
DTEND;TZID=America/Chicago:20240330T130000
DTSTAMP:20260422T103851
CREATED:20240213T011612Z
LAST-MODIFIED:20240213T011612Z
UID:62269-1711789200-1711803600@terrain-mag.com
SUMMARY:St. Charles County Parks Trail Build
DESCRIPTION:
URL:https://terrain-mag.com/event/st-charles-county-parks-trail-build-3/
LOCATION:St. Charles County Park
END:VEVENT
BEGIN:VEVENT
DTSTART;TZID=America/Chicago:20240406T073000
DTEND;TZID=America/Chicago:20240406T120000
DTSTAMP:20260422T103851
CREATED:20240213T020417Z
LAST-MODIFIED:20240213T020417Z
UID:62293-1712388600-1712404800@terrain-mag.com
SUMMARY:Rock the Parkway
DESCRIPTION:We are excited for 2024 Rock the Parkway and are making plans to hold a safe and enjoyable event. We will draw upon our experience with in-person events over the past year to maximize your safety before\, during and after the race. Should there be any necessary edits to the event\, we will contact race participants via email\, updates on this site and on social media.
URL:https://terrain-mag.com/event/rock-the-parkway/
LOCATION:Kansas City\, MO
END:VEVENT
BEGIN:VEVENT
DTSTART;TZID=America/Chicago:20240406T080000
DTEND;TZID=America/Chicago:20240406T130000
DTSTAMP:20260422T103851
CREATED:20240213T020701Z
LAST-MODIFIED:20240213T020701Z
UID:62295-1712390400-1712408400@terrain-mag.com
SUMMARY:Wolf Creek Trail Run
DESCRIPTION:Join the PB Kiwanis Club & US Forest Service as we host our 11th Annual WOLF CREEK TRAIL RUN. Enjoy the running trail AND help us raise money for Kiwanis Bacon Memorial Park.
URL:https://terrain-mag.com/event/wolf-creek-trail-run-4/
LOCATION:Wolf Creek Trail\, Poplar Bluff\, Mo.
END:VEVENT
BEGIN:VEVENT
DTSTART;TZID=America/Chicago:20240406T080000
DTEND;TZID=America/Chicago:20240406T170000
DTSTAMP:20260422T103851
CREATED:20240213T012231Z
LAST-MODIFIED:20240213T012231Z
UID:62271-1712390400-1712422800@terrain-mag.com
SUMMARY:River Road Classic
DESCRIPTION:This race starts and finishes at Katy Roundhouse Campground in New Franklin\, MO. It is conveniently located Within 10 minutes from Boonville (MO) and 35 minutes from Columbia (MO). \nRacers will wind their way throughout scenic rural Missouri and spend quality gravel grinding time along the beautiful Missouri River. This event is rain (ice) or shine\, so prepare for dust or mud.
URL:https://terrain-mag.com/event/river-road-classic/
LOCATION:1893 Katy Dr\, New Franklin\, MO  65274
END:VEVENT
BEGIN:VEVENT
DTSTART;TZID=America/Chicago:20240406T080000
DTEND;TZID=America/Chicago:20240407T170000
DTSTAMP:20260422T103851
CREATED:20240213T020900Z
LAST-MODIFIED:20240213T020900Z
UID:62298-1712390400-1712509200@terrain-mag.com
SUMMARY:Ozark Foothills Endurance Runs
DESCRIPTION:Ozark Foothills Endurance Runs – Hosted each spring in Greensfelder County Park in Wildwood\, Mo.\, this race offers 100 Mile\, 100K\, 50 Mile\, 50K\, Night-50K\, Marathon and 25K distance options and is a looped course that utilizes some of the region’s top-rated trails. Come run the scenic and technical terrain laying at the foothills of the gently rolling Ozark Mountain range. More than 90 percent single-track. We are proud to be a USATF Regional Association Championship race!
URL:https://terrain-mag.com/event/ozark-foothills-endurance-runs/
LOCATION:Greensfelder County Park
END:VEVENT
BEGIN:VEVENT
DTSTART;TZID=America/Chicago:20240406T090000
DTEND;TZID=America/Chicago:20240406T130000
DTSTAMP:20260422T103851
CREATED:20240216T031818Z
LAST-MODIFIED:20240216T031818Z
UID:62416-1712394000-1712408400@terrain-mag.com
SUMMARY:SIUE Trail Build
DESCRIPTION:
URL:https://terrain-mag.com/event/siue-trail-build-5/
LOCATION:Edwardsville\, Ill.
END:VEVENT
BEGIN:VEVENT
DTSTART;TZID=America/Chicago:20240407T080000
DTEND;TZID=America/Chicago:20240413T170000
DTSTAMP:20260422T103851
CREATED:20240216T025545Z
LAST-MODIFIED:20240216T025545Z
UID:62401-1712476800-1713027600@terrain-mag.com
SUMMARY:Expedition Ozark
DESCRIPTION:Expedition Ozark will be a true test of endurance\, teamwork and mental toughness. Teams (2-4 members) will have 5 days to complete a course covering the Northwest Arkansas region of the Ozarks. \nThe Ozarks is becoming one of the premier outdoor recreation locations in the country and this race showcases why. Rolling mountains\, awe-inspiring rivers\, incredible vistas and unforgiving terrain attract adventure seekers of all kinds and are the perfect setting for a multi-day adventure race. \nThe inaugural 2023 course showcased the region’s best rivers\, lakes\, hiking trails and of course the world renowned single track biking trails. The 2024 version will highlight many of the same qualities by going even further into the Ozarks backyard! Gravel and forest roads will connect National Forests and State Parks to quaint Ozark communities. \nThis course will test even the best racers with challenging navigation\, steep ascents and unpredictable Spring weather. Racers will find their limits physically and mentally\, and will be inspired by the powerful vistas\, 300’ bluffs and the life in the Ozark waterways in springtime.
URL:https://terrain-mag.com/event/expedition-ozark/
LOCATION:Northwest Arkansas
END:VEVENT
BEGIN:VEVENT
DTSTART;TZID=America/Chicago:20240407T130000
DTEND;TZID=America/Chicago:20240407T170000
DTSTAMP:20260422T103851
CREATED:20240216T025330Z
LAST-MODIFIED:20240216T025330Z
UID:62399-1712494800-1712509200@terrain-mag.com
SUMMARY:Rec-Plex Indoor Triathlon
DESCRIPTION:The swim will be in a 25-yard lap lane in our Natatorium. Once you have completed the swim you will transition to our spin room where the bike portion will take place. After the bike is completed you will make your way to the cardio room to run on a treadmill. Rec-Plex staff will keep track of your timing. We have 2 lengths to choose from\, short course and long course.
URL:https://terrain-mag.com/event/rec-plex-indoor-triathlon-21/
LOCATION:St. Peters RecPlex\, 5200 Mexico Rd\, St Peters\, Missouri\, 63376
END:VEVENT
BEGIN:VEVENT
DTSTART;TZID=America/Chicago:20240413T063000
DTEND;TZID=America/Chicago:20240413T120000
DTSTAMP:20260422T103851
CREATED:20240215T233155Z
LAST-MODIFIED:20240215T233155Z
UID:62364-1712989800-1713009600@terrain-mag.com
SUMMARY:Go Girl Run 5K & Half Marathon
DESCRIPTION:The GO GIRL RUN Half-Marathon & 5K is specifically designed to celebrate women’s health and fitness and encourage runners and walkers of all levels! GO GIRL RUN is a true celebration of friendship and sisterhood! The time you spend training\, socializing\, and running could be the best time you spend during the year! We WANT YOU to join us and look forward to celebrating you!
URL:https://terrain-mag.com/event/go-girl-run-5k-half-marathon-2/
LOCATION:118122 Park Central Square Springfield\, MO US 65806
END:VEVENT
BEGIN:VEVENT
DTSTART;TZID=America/Chicago:20240413T073000
DTEND;TZID=America/Chicago:20240413T140000
DTSTAMP:20260422T103851
CREATED:20240213T021130Z
LAST-MODIFIED:20240213T021130Z
UID:62299-1712993400-1713016800@terrain-mag.com
SUMMARY:Double Chubb Trail Runs
DESCRIPTION:Double Chubb 8M/25K/50K
URL:https://terrain-mag.com/event/double-chubb-trail-runs-2/
LOCATION:West Tyson County Park\, 131 N Outer Rd\, Eureka\, MO 63025\, USA
END:VEVENT
END:VCALENDAR