BEGIN:VCALENDAR
VERSION:2.0
PRODID:-//Terrain Magazine - ECPv6.15.20//NONSGML v1.0//EN
CALSCALE:GREGORIAN
METHOD:PUBLISH
X-WR-CALNAME:Terrain Magazine
X-ORIGINAL-URL:https://terrain-mag.com
X-WR-CALDESC:Events for Terrain Magazine
REFRESH-INTERVAL;VALUE=DURATION:PT1H
X-Robots-Tag:noindex
X-PUBLISHED-TTL:PT1H
BEGIN:VTIMEZONE
TZID:America/Chicago
BEGIN:DAYLIGHT
TZOFFSETFROM:-0600
TZOFFSETTO:-0500
TZNAME:CDT
DTSTART:20220313T080000
END:DAYLIGHT
BEGIN:STANDARD
TZOFFSETFROM:-0500
TZOFFSETTO:-0600
TZNAME:CST
DTSTART:20221106T070000
END:STANDARD
BEGIN:DAYLIGHT
TZOFFSETFROM:-0600
TZOFFSETTO:-0500
TZNAME:CDT
DTSTART:20230312T080000
END:DAYLIGHT
BEGIN:STANDARD
TZOFFSETFROM:-0500
TZOFFSETTO:-0600
TZNAME:CST
DTSTART:20231105T070000
END:STANDARD
BEGIN:DAYLIGHT
TZOFFSETFROM:-0600
TZOFFSETTO:-0500
TZNAME:CDT
DTSTART:20240310T080000
END:DAYLIGHT
BEGIN:STANDARD
TZOFFSETFROM:-0500
TZOFFSETTO:-0600
TZNAME:CST
DTSTART:20241103T070000
END:STANDARD
BEGIN:DAYLIGHT
TZOFFSETFROM:-0600
TZOFFSETTO:-0500
TZNAME:CDT
DTSTART:20250309T080000
END:DAYLIGHT
BEGIN:STANDARD
TZOFFSETFROM:-0500
TZOFFSETTO:-0600
TZNAME:CST
DTSTART:20251102T070000
END:STANDARD
BEGIN:DAYLIGHT
TZOFFSETFROM:-0600
TZOFFSETTO:-0500
TZNAME:CDT
DTSTART:20260308T080000
END:DAYLIGHT
BEGIN:STANDARD
TZOFFSETFROM:-0500
TZOFFSETTO:-0600
TZNAME:CST
DTSTART:20261101T070000
END:STANDARD
BEGIN:DAYLIGHT
TZOFFSETFROM:-0600
TZOFFSETTO:-0500
TZNAME:CDT
DTSTART:20270314T080000
END:DAYLIGHT
BEGIN:STANDARD
TZOFFSETFROM:-0500
TZOFFSETTO:-0600
TZNAME:CST
DTSTART:20271107T070000
END:STANDARD
END:VTIMEZONE
BEGIN:VEVENT
DTSTART;TZID=America/Chicago:20260228T060000
DTEND;TZID=America/Chicago:20260228T183000
DTSTAMP:20260423T082304
CREATED:20251118T153427Z
LAST-MODIFIED:20251118T153427Z
UID:71487-1772258400-1772303400@terrain-mag.com
SUMMARY:Shrewsbury Thrifty Fifty
DESCRIPTION:A midwinter celebration and untimed run-walk-roll. \nChoose a goal:   50 minutes\,   50 kilometers\, or   50 miles \nEVENTS:\n50 MINUTES: Group Send-Off at 10:00 a.m. Run\, walk\, roll\, dance\, or strut your way around the park. Decorations\, art\, crafts\, music\, costumes\, signs\, posters\, cowbell-clanging\, etc. are strongly encouraged. When you reach your goal of 50 minutes of continuous movement\, ring the big bell to celebrate! \n50 KILOMETERS: 6:00a. – 6:30p. Make your way around the loop 46 times\, and you have completed a true ultramarathon distance on a challenging (but fun & supportive) course. Ring the big bell to celebrate! Check in with the organizers so we can personalize your trophy! \n50 MILES: 6:00a. – 6:30p. Make your way around the loop 75 times\, and you have completed a true ultramarathon distance on a challenging (but fun & supportive) course. Ring the big bell to celebrate! Check in with the organizers so we can personalize your trophy! 50 mile participants are encouraged to begin as early as possible. It is very difficult and takes a long time. But you can do it! \nRegistration is encouraged (and free*)\, but anyone can join for ANY distance\, at ANY time\, or just hang out. Enjoy positivity\, art\, music\, and fellowship to cast-off those winter doldrums! \nTHE COURSE: A .66 mile loop on asphalt trail and concrete sidewalk. 3 loops = 2 miles. The trail includes 1 hill and 2 flat sections. Loop direction will be clearly marked and will change every hour. \nEach loop includes 49 feet of elevation gain. This makes the course challenging. To illustrate: The NYC marathon has a total elevation gain of 810 feet and is considered a very hilly marathon. 26 miles on the Thrifty Fifty course will get you 1\,911 feet of elevation gain. \nACCOMODATIONS: We will provide Gatorade\, water\, nutrition\, a few electrical outlets\, and restrooms. We will provide thumb-click lap-counters. Participants will rely on their own electronic devices for digital data. Results are “on your honor.” This is analog. \n*To offset pretzel costs\, we will accept 50-cent cash contributions at the event – a mere suggestion\, not a fee. Pocket change for pretzels.
URL:https://terrain-mag.com/event/shrewsbury-thrifty-fifty-2/
LOCATION:Wehner Park Festival Site Pavilion\, 5200 Lenox Avenue\, Shrewsbury\, MO\, 63119\, United States
CATEGORIES:Running
END:VEVENT
BEGIN:VEVENT
DTSTART;TZID=America/Chicago:20251214T103000
DTEND;TZID=America/Chicago:20251214T130000
DTSTAMP:20260423T082304
CREATED:20251118T152805Z
LAST-MODIFIED:20251118T152909Z
UID:71486-1765708200-1765717200@terrain-mag.com
SUMMARY:Tower Grove Park Frosted 5K
DESCRIPTION:Celebrate the season and support a St. Louis treasure! Hosted by Tower Grove Park\, the 9th Annual Frosted 5K raises essential funds to keep the Park a vibrant\, beautiful urban oasis all year long. Participants of all ages can enjoy a scenic 5K or 1-mile fun run\, followed by a festive celebration at the Frosted Holiday Market and Pop-Up Bar. \nAll proceeds from this event help to continue providing maintenance\, beautification\, educational opportunities\, recreation\, and enjoyment for all at Tower Grove Park!
URL:https://terrain-mag.com/event/tower-grove-park-frosted-5k/
LOCATION:Tower Grove Park\, St. Louis\, MO\, 63110\, United States
CATEGORIES:Running
END:VEVENT
BEGIN:VEVENT
DTSTART;TZID=America/Chicago:20250927T180000
DTEND;TZID=America/Chicago:20250927T220000
DTSTAMP:20260423T082304
CREATED:20250922T145347Z
LAST-MODIFIED:20250922T145347Z
UID:70832-1758996000-1759010400@terrain-mag.com
SUMMARY:Sunset Heats Track & Field Meet
DESCRIPTION:Run it Back.\, the city’s only adult-centered track and field club\, is hosting its final community track meet of the season on Saturday\, September 27th at 6:00 PM at Saint Louis University Medical Center Stadium. The event invites adults of all athletic levels to come out and race\, jump\, and throw in a fun\, welcoming environment that blends competition\, community\, and culture. \nCreated for former athletes\, community members\, and folks who just miss the track\, Run it Back. is reimagining what it means to move at any age or skill level. The September 27th meet will feature: \n\nElectronic timing for all races\nPrizes and giveaways for top finishers\nAn athlete recovery truck\nA live DJ spinning under the stadium lights\nMade-to-order tacos from Up Late\n\nFrom the founder\, Anastasia Harris\, a Black woman and St. Louis native: “I created Run it Back. for people to experience the special energy that only a track can bring. Once you graduate from high school or college there are few\, if any\, free opportunities to train and compete with other adults who love track and field\, but we’re changing that! Having the opportunity to do something I love is special\, but when other folks join in it becomes so much sweeter.” \nSpectators are welcome\, and the event is free to attend. Registration is open now at joinrunitback.com. Media are encouraged to attend\, capture content\, and speak with participants and organizers.
URL:https://terrain-mag.com/event/sunset-heats-track-field-meet/
LOCATION:SLU Medical Center Stadium\, 3300 Hickory St.\, St. Louis\, MO\, 63104
CATEGORIES:Running
END:VEVENT
BEGIN:VEVENT
DTSTART;TZID=America/Chicago:20250517T160000
DTEND;TZID=America/Chicago:20250517T210000
DTSTAMP:20260423T082304
CREATED:20250218T172734Z
LAST-MODIFIED:20260209T144454Z
UID:67506-1747497600-1747515600@terrain-mag.com
SUMMARY:Ferguson Twilight Run
DESCRIPTION:Enjoy a USATF-certified course through Ferguson’s beautiful historic neighborhoods in the 15th annual Ferguson Twilight Run managed under Live Well Events. The 2024 event includes a 5K\, 10K\, and 1-mile race options.
URL:https://terrain-mag.com/event/ferguson-twilight-run-9/
LOCATION:Ferguson\, Mo.
CATEGORIES:Running
ATTACH;FMTTYPE=image/jpeg:https://terrain-mag.com/wp-content/uploads/2025/02/Ferguson-Twilight-Run-2.jpg
END:VEVENT
BEGIN:VEVENT
DTSTART;TZID=America/Chicago:20250502T180000
DTEND;TZID=America/Chicago:20250502T200000
DTSTAMP:20260423T082304
CREATED:20250305T170621Z
LAST-MODIFIED:20250305T170621Z
UID:67774-1746208800-1746216000@terrain-mag.com
SUMMARY:Cinco de Kilometer
DESCRIPTION:A 5K fun walk with all proceeds benefiting Creve Coeur Lake Memorial Park. \n\n\n\n\nFUN WALK HIGHLIGHTS\n\n\n\n\n\n\n\n♦ 5K T-Shirt while supplies last!\n♦ Free drink of your choice (margarita\, beer\, water\, etc.) with registration!\n♦ Net proceeds will support improvements at Creve Coeur Lake Memorial Park!\n\n\n\n\nSTART / FINISH LOCATION\nSailboat Cove at Creve Coeur Park\n13725 Marine Avenue\nMaryland Heights\, MO 63043\n\n\n\n\n\n\n\nPARKING:\nOn-site spots at Sailboat Cove are available. Car pooling is encouraged!\n\n\n\n\n\n\n\nSCHEDULE\n5pm: Check-in & Day-Of\nRegistration at Tremayne Shelter\n6pm: 5K Walk Starts\n8pm: Course Closes\n*Rain or Shine Event
URL:https://terrain-mag.com/event/cinco-de-kilometer-2/
LOCATION:Creve Coeur 13725 Marine Ave Maryland Heights\, MO US 63043
CATEGORIES:Running
END:VEVENT
BEGIN:VEVENT
DTSTART;TZID=America/Chicago:20240608T063000
DTEND;TZID=America/Chicago:20240608T110000
DTSTAMP:20260423T082304
CREATED:20240429T144530Z
LAST-MODIFIED:20240429T144530Z
UID:63410-1717828200-1717844400@terrain-mag.com
SUMMARY:Metro Milers 10K
DESCRIPTION:Hosted by the Metro Milers running club\, the Route 66 10K features as part of the City of Edwardsville’s Route 66 Festival. The festival and race are held in Edwardsville’s City Park on the second Saturday every year in June. \nAs of the best races in the Midwest\, the Route 66 10K is regularly the RRCA’s Championship 10K those years it is eligible. This event is tailored to be enjoyed by all who participate as runners\, walkers\, and volunteers. Being a community-oriented event\, a portion of the race budget is dedicated every year to benefit local not-for-profit organizations\, and proceeds are used to promote physical fitness and activity in the Metro East. \nAge group awards (in 5 year bins) will be awarded to in person participants\, and all registrants will receive a high quality technical shirt and finisher swag item.
URL:https://terrain-mag.com/event/metro-milers-10k/
LOCATION:City Park\, 101 S Buchanan St\, Edwardsville\, IL\, 62025\, United States
CATEGORIES:Running
ORGANIZER;CN="Metro Milers":MAILTO:info@metromilers.com
END:VEVENT
BEGIN:VEVENT
DTSTART;TZID=America/Chicago:20240519T073000
DTEND;TZID=America/Chicago:20240519T130000
DTSTAMP:20260423T082304
CREATED:20240318T151437Z
LAST-MODIFIED:20240318T151437Z
UID:62926-1716103800-1716123600@terrain-mag.com
SUMMARY:Millstadt Tin Man Half Marathon & 5K
DESCRIPTION:The sixth annual Millstadt Tin Man Half Marathon and 5K races will be held on Sunday May 19\, 2024 in Millstadt\, IL\, starting at 7:30 a.m..  The races will be out and back\, starting at the intersection of East Madison and South Breese streets\, right by the recently restored Old Millstadt Water Tower\, aka the Millstadt Tin Man. For more information and online registration\, please click on this link:   https://millstadttinmanhalfmarathonand5krun.itsyourrace.com/register
URL:https://terrain-mag.com/event/millstadt-tin-man-half-marathon-5k-2/
CATEGORIES:Running
END:VEVENT
BEGIN:VEVENT
DTSTART;TZID=America/Chicago:20240503T180000
DTEND;TZID=America/Chicago:20240503T210000
DTSTAMP:20260423T082304
CREATED:20240318T152516Z
LAST-MODIFIED:20240318T152516Z
UID:62927-1714759200-1714770000@terrain-mag.com
SUMMARY:Cinco De Kilometer
DESCRIPTION:Held by the St. Louis County Parks Foundation\, 100% of the net proceeds from this event benefit Creve Coeur Lake Memorial Park. 5K begins at Sailboat Cove. Free T-shirt and drink with entry fee. Price increases after 4/19.
URL:https://terrain-mag.com/event/cinco-de-kilometer/
LOCATION:Creve Coeur Lake Memorial Park
CATEGORIES:Running
END:VEVENT
BEGIN:VEVENT
DTSTART;TZID=America/Chicago:20230923T080000
DTEND;TZID=America/Chicago:20230923T120000
DTSTAMP:20260423T082304
CREATED:20230622T200238Z
LAST-MODIFIED:20230814T155052Z
UID:59306-1695456000-1695470400@terrain-mag.com
SUMMARY:Piggyback Dash 10K\, 5K\, 2K
DESCRIPTION:Participate with your family and friends at the 7th Annual Piggyback Dash\, a chip-timed 10K and 5K run\, as well as a 2K fun run/walk. Located in the heart of Franklin County\, this unique race will take you on a rolling course through Union\, MO\, with a challenging but rewarding finish at the top of Autumn Hill. \nAs part of the inspiration behind the race\, once runners reach the bottom of Autumn Hill they have the option to carry someone piggyback style up the hill to the finish line for extra finisher swag. This portion is completely voluntary and is not required in order to finish. It doesn’t matter who the person on your back is. They do not have to be a registered participant. \nAll proceeds from the race will benefit The Lance Purschke Memorial Scholarship Fund through the Union R-XI Foundation\, a 501(c)(3) organization. \nWhy the Name\nThroughout high school\, if there wasn’t a practice to get to\, then Lance and friends would run almost everyday after dismissal. He routinely ran up Autumn Hill…often using it for hill repeats. Lance loved the hill and the challenge it presented. He never complained about it. Rather\, his was the voice of encouragement for others to rise to the challenge. In fact\, he is the first person we know of to carry someone piggyback up the hill. Hence the race name\, The Piggyback Dash.
URL:https://terrain-mag.com/event/the-piggyback-dash-2k-5k-10k/
LOCATION:Union\, MO
CATEGORIES:Running
ATTACH;FMTTYPE=image/jpeg:https://terrain-mag.com/wp-content/uploads/2023/06/PiggyBackDash_2022-176-scaled.jpg
END:VEVENT
BEGIN:VEVENT
DTSTART;TZID=America/Chicago:20230325T100000
DTEND;TZID=America/Chicago:20230326T150000
DTSTAMP:20260423T082304
CREATED:20230222T141610Z
LAST-MODIFIED:20230222T141629Z
UID:55626-1679738400-1679842800@terrain-mag.com
SUMMARY:Hermann Wurstfest – VolksMarch  5K
DESCRIPTION:A traditional VolksMarch is a 3.1 mile/5K non-competitive fitness walk. Volks marches are held all over the world and participants get medals to collect for their participation.  The Hermann Area District Hospital and Hermann Area Chamber of Commerce are sponsoring a VolksMarch during Wurstfest weekend.   \nWe are putting our own spin on it for our annual Wurstfest\, a 3.1 mile walk around local participating businesses. Local businesses will have specials or discounts to offer participants on Saturday\, March 25 and Sunday\, March 26\, 2023.  \nThis event is for everyone of all ages and fitness levels! Pre-register for the event and check in at the Hermann Area Chamber of Commerce located at 150 Market Street\, Hermann\, Missouri\, to pick up a map of businesses. The cost to participants is $10. The first 30 participants will receive the 2023 VolksMarch pin.
URL:https://terrain-mag.com/event/hermann-wurstfest-volksmarch-5k/
LOCATION:Hermann Area Chamber of Commerce\, 150 Market Street\, Hermann\, MO\, 65041
CATEGORIES:Running
ATTACH;FMTTYPE=image/jpeg:https://terrain-mag.com/wp-content/uploads/2023/02/Picture1.jpg
END:VEVENT
BEGIN:VEVENT
DTSTART;TZID=America/Chicago:20230304T090000
DTEND;TZID=America/Chicago:20230304T140000
DTSTAMP:20260423T082304
CREATED:20230103T143051Z
LAST-MODIFIED:20230103T143914Z
UID:54717-1677920400-1677938400@terrain-mag.com
SUMMARY:Run For Share 5K Run/Walk 2023
DESCRIPTION:Looking for a fast 5k to start the spring racing season? Come run the Run for Share 5k at Frontier Park in St Charles\, MO on Saturday March 4. This flat and fast 5k loops around Frontier Park and along the Katy Trail making a scenic and fast course. \nIn the process\, you’ll support Share Pregnancy and Infant Loss\, Inc. Share is a non-profit dedicated to supporting families that have lost a baby through miscarriage\, stillbirth\, or in the first few months of life. Did you know 1 in every 4 pregnancies ends this way? Supporting families in their grief journey is why Share’s mission is so critical. \nCan’t make it in-person? You can still run or walk virtually so you can participate wherever you are.  \nPacket pick-up on 3/3/2023 from 12:00 to 6:00pm at Fleet Feet St Charles (3813 Mexico Road). \nRace Day pick-up on 3/4/2023 from 7:30am to 8:45am. \nT-Shirts to all pre-registered participants\, and awards to the top 3 male and female overall finishers\, as well as top three male and females in the following age groups: 19 & under\, 20 to 29\, 30 to 39\, 40 to 49\, 50 to 59\, 60 to 69\, 70 & over. \nA virtual option is also available.
URL:https://terrain-mag.com/event/run-for-share-5k-run-walk-2023/
LOCATION:Frontier Park\, 500 South Riverside Drive\, St. Charles\, MO\, 63301\, United States
CATEGORIES:Running
ATTACH;FMTTYPE=image/png:https://terrain-mag.com/wp-content/uploads/2023/01/Run-For-Share-Logo.png
END:VEVENT
BEGIN:VEVENT
DTSTART;TZID=America/Chicago:20230304T080000
DTEND;TZID=America/Chicago:20230304T170000
DTSTAMP:20260423T082304
CREATED:20221228T184350Z
LAST-MODIFIED:20221228T184350Z
UID:54648-1677916800-1677949200@terrain-mag.com
SUMMARY:Vets Gone Home 5K Run/Walk
DESCRIPTION:This 5K is an Eagle Scout project that will bring awareness to the homeless veteran community and veterans in need in the St. Louis Metro area. Race participants will be provided information\, tools\, and opportunities to assist these veteran groups through the Veteran Community Project and other Veteran Orientated Organizations.
URL:https://terrain-mag.com/event/vets-gone-home-5k-run-walk/
LOCATION:Riverside Park\, 1215 Larkin Williams Rd\, Fenton\, MO\, 63026
CATEGORIES:Running
END:VEVENT
END:VCALENDAR