BEGIN:VCALENDAR
VERSION:2.0
PRODID:-//Terrain Magazine - ECPv6.15.20//NONSGML v1.0//EN
CALSCALE:GREGORIAN
METHOD:PUBLISH
X-WR-CALNAME:Terrain Magazine
X-ORIGINAL-URL:https://terrain-mag.com
X-WR-CALDESC:Events for Terrain Magazine
REFRESH-INTERVAL;VALUE=DURATION:PT1H
X-Robots-Tag:noindex
X-PUBLISHED-TTL:PT1H
BEGIN:VTIMEZONE
TZID:America/Chicago
BEGIN:DAYLIGHT
TZOFFSETFROM:-0600
TZOFFSETTO:-0500
TZNAME:CDT
DTSTART:20250309T080000
END:DAYLIGHT
BEGIN:STANDARD
TZOFFSETFROM:-0500
TZOFFSETTO:-0600
TZNAME:CST
DTSTART:20251102T070000
END:STANDARD
BEGIN:DAYLIGHT
TZOFFSETFROM:-0600
TZOFFSETTO:-0500
TZNAME:CDT
DTSTART:20260308T080000
END:DAYLIGHT
BEGIN:STANDARD
TZOFFSETFROM:-0500
TZOFFSETTO:-0600
TZNAME:CST
DTSTART:20261101T070000
END:STANDARD
BEGIN:DAYLIGHT
TZOFFSETFROM:-0600
TZOFFSETTO:-0500
TZNAME:CDT
DTSTART:20270314T080000
END:DAYLIGHT
BEGIN:STANDARD
TZOFFSETFROM:-0500
TZOFFSETTO:-0600
TZNAME:CST
DTSTART:20271107T070000
END:STANDARD
END:VTIMEZONE
BEGIN:VEVENT
DTSTART;TZID=America/Chicago:20260516T163000
DTEND;TZID=America/Chicago:20260516T220000
DTSTAMP:20260422T100152
CREATED:20260209T145315Z
LAST-MODIFIED:20260209T145315Z
UID:72077-1778949000-1778968800@terrain-mag.com
SUMMARY:Ferguson Twilight Run 2026
DESCRIPTION:Enjoy a USATF-certified course through Ferguson’s beautiful historic neighborhoods in the 17th annual Ferguson Twilight Run managed under Live Well Events. The 2026 event includes a 5K\, 10K\, and 1-mile race options. There is also an option to support as a virtual participant. The event benefits nonprofits in North St. Louis County. \n\n\nFerguson Twilight Run will host its 17th annual event on Saturday\, May 16\, 2026. This year’s run will welcome participants to run or walk the 1-mile\, 5K or 10K distances. All distances are offered virtually with unlimited participation; virtual races can be completed on your own schedule. \nThe Ferguson Twilight Run starts and finishes at Plaza @ 501. Pre-Race entertainment starts at 4:30 p.m. and the concert ends at 8:30 p.m. The 1-mile distance starts at 5 p.m.; the 5K starts at 6:00 p.m.; and the 10K starts at 5:45 p.m. For the safety of in-person runners and walkers\, there will be staggered starts between pace groups for the 5K and 10K. Road closures are expected between 4:30 p.m. and 7:45 p.m. \n\n\nRACE DAY FACTS\n\n\n\nThe seventeenth race is Saturday\, May 16\, 2026\, with festivities starting at 4:30 pm and ending at 10:00 pm\nThree (3) registration options – one-mile\, 5K (3.1 miles)\, 10K (6.2 miles)\, and a virtual race option\nThe race starts and finishes at Plaza at 501 at the intersection of Florissant Rd & Suburban Avenue\nCourse is professionally timed by Big River Running and is USATF certified\nRegistered participants receive a gender specific shirt and finisher medal; Shirts are NOT guaranteed for participants registering after April 26th; Awards presented to top age group finishers\nBaby joggers/strollers are welcome\, but pets are not allowed; however\, service dogs are permitted
URL:https://terrain-mag.com/event/ferguson-twilight-run-2026/
LOCATION:Ferguson\, Mo.
CATEGORIES:Running
ATTACH;FMTTYPE=image/jpeg:https://terrain-mag.com/wp-content/uploads/2026/02/54536873812_9d5ba4f063_c.jpg
ORGANIZER;CN="Ferguson Twilight Run":MAILTO:racedirector@fergtwilightrun.com
END:VEVENT
END:VCALENDAR